BEGIN:VCALENDAR
VERSION:2.0
PRODID:-//Newcomb Art Museum - ECPv6.15.20//NONSGML v1.0//EN
CALSCALE:GREGORIAN
METHOD:PUBLISH
X-ORIGINAL-URL:https://newcombartmuseum.tulane.edu
X-WR-CALDESC:Events for Newcomb Art Museum
REFRESH-INTERVAL;VALUE=DURATION:PT1H
X-Robots-Tag:noindex
X-PUBLISHED-TTL:PT1H
BEGIN:VTIMEZONE
TZID:America/Chicago
BEGIN:DAYLIGHT
TZOFFSETFROM:-0600
TZOFFSETTO:-0500
TZNAME:CDT
DTSTART:20160313T080000
END:DAYLIGHT
BEGIN:STANDARD
TZOFFSETFROM:-0500
TZOFFSETTO:-0600
TZNAME:CST
DTSTART:20161106T070000
END:STANDARD
BEGIN:DAYLIGHT
TZOFFSETFROM:-0600
TZOFFSETTO:-0500
TZNAME:CDT
DTSTART:20170312T080000
END:DAYLIGHT
BEGIN:STANDARD
TZOFFSETFROM:-0500
TZOFFSETTO:-0600
TZNAME:CST
DTSTART:20171105T070000
END:STANDARD
BEGIN:DAYLIGHT
TZOFFSETFROM:-0600
TZOFFSETTO:-0500
TZNAME:CDT
DTSTART:20180311T080000
END:DAYLIGHT
BEGIN:STANDARD
TZOFFSETFROM:-0500
TZOFFSETTO:-0600
TZNAME:CST
DTSTART:20181104T070000
END:STANDARD
END:VTIMEZONE
BEGIN:VEVENT
DTSTART;TZID=America/Chicago:20170514T110000
DTEND;TZID=America/Chicago:20170514T130000
DTSTAMP:20260425T110533
CREATED:20160419T113725Z
LAST-MODIFIED:20170410T202130Z
UID:2164-1494759600-1494766800@newcombartmuseum.tulane.edu
SUMMARY:Mother's Day Brunch
DESCRIPTION:Join us for the second annual Newcomb Art Museum Mother’s Day Brunch! \nThe festive gathering will take place in the museum’s Woodward Way breezeway and feature: \n\na catered sit-down brunch\nbehind-the-scenes tours of the museum’s collection of Newcomb Pottery\nguided tours of the Newcomb Pottery Garden\na special gift for all attendees\n\nTickets are $85 each; revenues go toward our exhibitions and programs. Space is extremely limited so order your tickets today by emailing museum@tulane.edu or clicking HERE.
URL:https://newcombartmuseum.tulane.edu/event/mothers-day-brunch/
LOCATION:Newcomb Art Museum\, Woldenberg Art Center\, New Orleans\, LA\, 70118\, United States
CATEGORIES:Fundraiser
ATTACH;FMTTYPE=image/jpeg:https://newcombartmuseum.tulane.edu/wp-content/uploads/sites/5/2016/04/website-image.jpg
END:VEVENT
END:VCALENDAR