BEGIN:VCALENDAR
VERSION:2.0
PRODID:-//Newcomb Art Museum - ECPv6.15.20//NONSGML v1.0//EN
CALSCALE:GREGORIAN
METHOD:PUBLISH
X-WR-CALNAME:Newcomb Art Museum
X-ORIGINAL-URL:https://newcombartmuseum.tulane.edu
X-WR-CALDESC:Events for Newcomb Art Museum
REFRESH-INTERVAL;VALUE=DURATION:PT1H
X-Robots-Tag:noindex
X-PUBLISHED-TTL:PT1H
BEGIN:VTIMEZONE
TZID:America/Chicago
BEGIN:DAYLIGHT
TZOFFSETFROM:-0600
TZOFFSETTO:-0500
TZNAME:CDT
DTSTART:20160313T080000
END:DAYLIGHT
BEGIN:STANDARD
TZOFFSETFROM:-0500
TZOFFSETTO:-0600
TZNAME:CST
DTSTART:20161106T070000
END:STANDARD
BEGIN:DAYLIGHT
TZOFFSETFROM:-0600
TZOFFSETTO:-0500
TZNAME:CDT
DTSTART:20170312T080000
END:DAYLIGHT
BEGIN:STANDARD
TZOFFSETFROM:-0500
TZOFFSETTO:-0600
TZNAME:CST
DTSTART:20171105T070000
END:STANDARD
BEGIN:DAYLIGHT
TZOFFSETFROM:-0600
TZOFFSETTO:-0500
TZNAME:CDT
DTSTART:20180311T080000
END:DAYLIGHT
BEGIN:STANDARD
TZOFFSETFROM:-0500
TZOFFSETTO:-0600
TZNAME:CST
DTSTART:20181104T070000
END:STANDARD
END:VTIMEZONE
BEGIN:VEVENT
DTSTART;TZID=America/Chicago:20170916T113000
DTEND;TZID=America/Chicago:20170916T130000
DTSTAMP:20260424T135842
CREATED:20170626T195657Z
LAST-MODIFIED:20170913T154549Z
UID:4357-1505561400-1505566800@newcombartmuseum.tulane.edu
SUMMARY:Family Workshop
DESCRIPTION:Get creative with the whole family! \nThis Saturday\, all ages are invited to swing by the Newcomb Art Museum for a free family art workshop inspired by their latest exhibition\, Unfamiliar Again: Contemporary Women Abstractionists. The exhibition features work by women artists from across the United States as they explore new ways of approaching abstraction. \nFrom 11:30 am to 1 pm\, the museum will play host to a family-friendly workshop where budding artists of all-ages will have the opportunity to create their own abstract masterpieces using collage work\, colored pencils\, cut paper and more. Kids and parents alike are encouraged to engage with the exhibition through a movement based scavenger hunt where you get to be the art! Story time will feature books encouraging children that anyone who wants to be an artist\, can be an artist (with a little paint and a whole lot of imagination!) \nThis come-and-go workshop allows children and parents to explore the museum in a welcome and fun environment plus creates an opportunity for everyone\, no matter your level of experience\, the chance to create their own abstract masterpiece to be hung on the fridge or framed on the wall! \nFree and open to the public. The event is come and go\, drop-ins encouraged! \nQuestions? Reach out to Tom Friel at tfriel@tulane.edu.
URL:https://newcombartmuseum.tulane.edu/event/family-workshop/
LOCATION:Newcomb Art Museum\, Woldenberg Art Center\, New Orleans\, LA\, 70118\, United States
CATEGORIES:Art Activity
ATTACH;FMTTYPE=image/png:https://newcombartmuseum.tulane.edu/wp-content/uploads/sites/5/2017/06/Screen-Shot-2017-09-12-at-5.13.12-PM.png
END:VEVENT
END:VCALENDAR