BEGIN:VCALENDAR
VERSION:2.0
PRODID:-//Newcomb Art Museum - ECPv6.15.20//NONSGML v1.0//EN
CALSCALE:GREGORIAN
METHOD:PUBLISH
X-WR-CALNAME:Newcomb Art Museum
X-ORIGINAL-URL:https://newcombartmuseum.tulane.edu
X-WR-CALDESC:Events for Newcomb Art Museum
REFRESH-INTERVAL;VALUE=DURATION:PT1H
X-Robots-Tag:noindex
X-PUBLISHED-TTL:PT1H
BEGIN:VTIMEZONE
TZID:America/Chicago
BEGIN:DAYLIGHT
TZOFFSETFROM:-0600
TZOFFSETTO:-0500
TZNAME:CDT
DTSTART:20160313T080000
END:DAYLIGHT
BEGIN:STANDARD
TZOFFSETFROM:-0500
TZOFFSETTO:-0600
TZNAME:CST
DTSTART:20161106T070000
END:STANDARD
BEGIN:DAYLIGHT
TZOFFSETFROM:-0600
TZOFFSETTO:-0500
TZNAME:CDT
DTSTART:20170312T080000
END:DAYLIGHT
BEGIN:STANDARD
TZOFFSETFROM:-0500
TZOFFSETTO:-0600
TZNAME:CST
DTSTART:20171105T070000
END:STANDARD
BEGIN:DAYLIGHT
TZOFFSETFROM:-0600
TZOFFSETTO:-0500
TZNAME:CDT
DTSTART:20180311T080000
END:DAYLIGHT
BEGIN:STANDARD
TZOFFSETFROM:-0500
TZOFFSETTO:-0600
TZNAME:CST
DTSTART:20181104T070000
END:STANDARD
END:VTIMEZONE
BEGIN:VEVENT
DTSTART;TZID=America/Chicago:20171018T190000
DTEND;TZID=America/Chicago:20171018T203000
DTSTAMP:20260424T070740
CREATED:20170626T200626Z
LAST-MODIFIED:20170626T202212Z
UID:4378-1508353200-1508358600@newcombartmuseum.tulane.edu
SUMMARY:Film Screening
DESCRIPTION:In conjunction with our exhibition\, Unfamiliar Again: Contemporary Women Abstractionists\, NAM will screen several short films* by influential women directors\, including Maya Deren\, Germaine Dulac\, and Joyce Wieland. \nFree and open to the public. Contact Tom Friel at tfriel@tulane.edu with questions. \nThe museum will be open one hour prior to screening. \n*films presented as digital transfers not celluloid.
URL:https://newcombartmuseum.tulane.edu/event/ua_filmscreening/
LOCATION:Newcomb Art Museum\, Woldenberg Art Center\, New Orleans\, LA\, 70118\, United States
CATEGORIES:Film
ATTACH;FMTTYPE=image/png:https://newcombartmuseum.tulane.edu/wp-content/uploads/sites/5/2017/06/M_Deren.png
END:VEVENT
END:VCALENDAR