BEGIN:VCALENDAR
VERSION:2.0
PRODID:-//Newcomb Art Museum - ECPv6.15.20//NONSGML v1.0//EN
CALSCALE:GREGORIAN
METHOD:PUBLISH
X-WR-CALNAME:Newcomb Art Museum
X-ORIGINAL-URL:https://newcombartmuseum.tulane.edu
X-WR-CALDESC:Events for Newcomb Art Museum
REFRESH-INTERVAL;VALUE=DURATION:PT1H
X-Robots-Tag:noindex
X-PUBLISHED-TTL:PT1H
BEGIN:VTIMEZONE
TZID:America/Chicago
BEGIN:DAYLIGHT
TZOFFSETFROM:-0600
TZOFFSETTO:-0500
TZNAME:CDT
DTSTART:20160313T080000
END:DAYLIGHT
BEGIN:STANDARD
TZOFFSETFROM:-0500
TZOFFSETTO:-0600
TZNAME:CST
DTSTART:20161106T070000
END:STANDARD
BEGIN:DAYLIGHT
TZOFFSETFROM:-0600
TZOFFSETTO:-0500
TZNAME:CDT
DTSTART:20170312T080000
END:DAYLIGHT
BEGIN:STANDARD
TZOFFSETFROM:-0500
TZOFFSETTO:-0600
TZNAME:CST
DTSTART:20171105T070000
END:STANDARD
BEGIN:DAYLIGHT
TZOFFSETFROM:-0600
TZOFFSETTO:-0500
TZNAME:CDT
DTSTART:20180311T080000
END:DAYLIGHT
BEGIN:STANDARD
TZOFFSETFROM:-0500
TZOFFSETTO:-0600
TZNAME:CST
DTSTART:20181104T070000
END:STANDARD
END:VTIMEZONE
BEGIN:VEVENT
DTSTART;TZID=America/Chicago:20171103T120000
DTEND;TZID=America/Chicago:20171103T130000
DTSTAMP:20260424T125140
CREATED:20170913T183805Z
LAST-MODIFIED:20171013T170031Z
UID:6133-1509710400-1509714000@newcombartmuseum.tulane.edu
SUMMARY:First Friday Collections Tour
DESCRIPTION:Have you ever wanted to get a behind-the-scenes look at Newcomb Art Museum’s incredible collection of Newcomb Pottery? Then drop by on the first Friday of each month for a guided tour highlighting our permanent collection of Newcomb Pottery\, Tulane faculty and alumni art works!  \nThe tour is free but IS STRICTLY LIMITED to the first 10 people due to space restrictions. Please reach out to Tom Friel at tfriel@tulane.edu regarding any questions and to reserve your spot. \n  \n[Vase with Magnolia Design\, Mary Williams Butler\, Artist; Joseph Meyer\, Potter c. 1902 – 1903 Collection of Newcomb Art Museum of Tulane University]
URL:https://newcombartmuseum.tulane.edu/event/first-friday-collections-tour/
LOCATION:Newcomb Art Museum\, Woldenberg Art Center\, New Orleans\, LA\, 70118\, United States
CATEGORIES:Walk-Through
ATTACH;FMTTYPE=image/jpeg:https://newcombartmuseum.tulane.edu/wp-content/uploads/sites/5/2017/09/U0P8122-scaled.jpg
END:VEVENT
BEGIN:VEVENT
DTSTART;TZID=America/Chicago:20171103T120000
DTEND;TZID=America/Chicago:20171103T160000
DTSTAMP:20260424T125140
CREATED:20171023T141943Z
LAST-MODIFIED:20171030T185601Z
UID:6674-1509710400-1509724800@newcombartmuseum.tulane.edu
SUMMARY:Homecoming at NAM
DESCRIPTION:Celebrate Tulane’s Homecoming with Newcomb Art Museum! Enjoy free cotton candy\, artist demonstrations\, as well as exhibition and storage tours! \n12 pm to 4 pm – Artist demonstrations from Jenna Turner and Michelle Swafford \n12 pm & 1 pm – Exhibition tour of “Unfamiliar Again: Contemporary Women Abstractionists” by Monica Ramirez-Montagut\, Museum Director \n1 pm to 3 pm – FREE cotton candy \n12:30 & 1:30 pm – Behind-the-scenes tour of the Newcomb Pottery collection and the history of this treasured enterprise by Sierra Polisar\, Collections Manager \n2 pm & 3 pm – Exhibition tour of “Unfamiliar Again: Contemporary Women Abstractionists” by Tom Friel\, Coordinator for Interpretation & Public Engagement \n2:30 pm & 3:30 pm – Behind-the-scenes tour of the permanent collection of Newcomb and Tulane with a first-hand look at collections management and object preservation with Sierra Polisar\, Collections Manager \nPLUS enjoy glass blowing demonstrations from the Newcomb Art Department from 1 pm to 3 pm and open houses of the Newcomb College Institute and New Orleans Center for the Gulf South from 3 pm to  5 pm. \nThe Newcomb Art Museum will also be discounting museum memberships by 25% for all Tulane & Newcomb Alumni! The museum store will be offering discounts on books from the gift shop and will also be selling t-shirts to support the Louisiana Prison Eduction Coalition.a
URL:https://newcombartmuseum.tulane.edu/event/homecoming-at-nam/
LOCATION:Newcomb Art Museum\, Woldenberg Art Center\, New Orleans\, LA\, 70118\, United States
ATTACH;FMTTYPE=image/jpeg:https://newcombartmuseum.tulane.edu/wp-content/uploads/sites/5/2017/10/wavehashtag17.jpg
END:VEVENT
END:VCALENDAR