BEGIN:VCALENDAR
VERSION:2.0
PRODID:-//Newcomb Art Museum - ECPv6.15.17.1//NONSGML v1.0//EN
CALSCALE:GREGORIAN
METHOD:PUBLISH
X-WR-CALNAME:Newcomb Art Museum
X-ORIGINAL-URL:https://newcombartmuseum.tulane.edu
X-WR-CALDESC:Events for Newcomb Art Museum
REFRESH-INTERVAL;VALUE=DURATION:PT1H
X-Robots-Tag:noindex
X-PUBLISHED-TTL:PT1H
BEGIN:VTIMEZONE
TZID:America/Chicago
BEGIN:DAYLIGHT
TZOFFSETFROM:-0600
TZOFFSETTO:-0500
TZNAME:CDT
DTSTART:20160313T080000
END:DAYLIGHT
BEGIN:STANDARD
TZOFFSETFROM:-0500
TZOFFSETTO:-0600
TZNAME:CST
DTSTART:20161106T070000
END:STANDARD
BEGIN:DAYLIGHT
TZOFFSETFROM:-0600
TZOFFSETTO:-0500
TZNAME:CDT
DTSTART:20170312T080000
END:DAYLIGHT
BEGIN:STANDARD
TZOFFSETFROM:-0500
TZOFFSETTO:-0600
TZNAME:CST
DTSTART:20171105T070000
END:STANDARD
BEGIN:DAYLIGHT
TZOFFSETFROM:-0600
TZOFFSETTO:-0500
TZNAME:CDT
DTSTART:20180311T080000
END:DAYLIGHT
BEGIN:STANDARD
TZOFFSETFROM:-0500
TZOFFSETTO:-0600
TZNAME:CST
DTSTART:20181104T070000
END:STANDARD
END:VTIMEZONE
BEGIN:VEVENT
DTSTART;TZID=America/Chicago:20171112T110000
DTEND;TZID=America/Chicago:20171112T113000
DTSTAMP:20260423T111055
CREATED:20170913T200444Z
LAST-MODIFIED:20171109T223301Z
UID:6226-1510484400-1510486200@newcombartmuseum.tulane.edu
SUMMARY:Baby Artsplay!
DESCRIPTION:Young Audiences of Louisiana Baby Artsplay!™ Presented by The Helis Foundation is the perfect opportunity for caregivers to integrate purposeful activities into their child’s playtime that support their cognitive\, physical\, and social development. Research shows\, and parents confirm\, that multi-sensory approaches to learning help young children create deeper\, more meaningful connections with the world around them. Baby Artsplay!™ will engage children and their caregivers in joyful and easy to replicate multisensory experiences that help children reach developmental milestones\, while immersed in New Orleans’ art and cultural institutions. These classes are free and open to children ages 4 months to 3 years with a caretaker. \nRegister by clicking here.
URL:https://newcombartmuseum.tulane.edu/event/baby-artsplay-5/
LOCATION:Newcomb Art Museum\, Woldenberg Art Center\, New Orleans\, LA\, 70118\, United States
CATEGORIES:Just for Kids!
ATTACH;FMTTYPE=image/jpeg:https://newcombartmuseum.tulane.edu/wp-content/uploads/sites/5/2017/09/aaron-mello-137671-scaled.jpg
END:VEVENT
END:VCALENDAR