BEGIN:VCALENDAR
VERSION:2.0
PRODID:-//Newcomb Art Museum - ECPv6.15.20//NONSGML v1.0//EN
CALSCALE:GREGORIAN
METHOD:PUBLISH
X-WR-CALNAME:Newcomb Art Museum
X-ORIGINAL-URL:https://newcombartmuseum.tulane.edu
X-WR-CALDESC:Events for Newcomb Art Museum
REFRESH-INTERVAL;VALUE=DURATION:PT1H
X-Robots-Tag:noindex
X-PUBLISHED-TTL:PT1H
BEGIN:VTIMEZONE
TZID:America/Chicago
BEGIN:DAYLIGHT
TZOFFSETFROM:-0600
TZOFFSETTO:-0500
TZNAME:CDT
DTSTART:20160313T080000
END:DAYLIGHT
BEGIN:STANDARD
TZOFFSETFROM:-0500
TZOFFSETTO:-0600
TZNAME:CST
DTSTART:20161106T070000
END:STANDARD
BEGIN:DAYLIGHT
TZOFFSETFROM:-0600
TZOFFSETTO:-0500
TZNAME:CDT
DTSTART:20170312T080000
END:DAYLIGHT
BEGIN:STANDARD
TZOFFSETFROM:-0500
TZOFFSETTO:-0600
TZNAME:CST
DTSTART:20171105T070000
END:STANDARD
BEGIN:DAYLIGHT
TZOFFSETFROM:-0600
TZOFFSETTO:-0500
TZNAME:CDT
DTSTART:20180311T080000
END:DAYLIGHT
BEGIN:STANDARD
TZOFFSETFROM:-0500
TZOFFSETTO:-0600
TZNAME:CST
DTSTART:20181104T070000
END:STANDARD
END:VTIMEZONE
BEGIN:VEVENT
DTSTART;TZID=America/Chicago:20171116T120000
DTEND;TZID=America/Chicago:20171116T130000
DTSTAMP:20260424T125141
CREATED:20170913T184410Z
LAST-MODIFIED:20170913T184410Z
UID:6169-1510833600-1510837200@newcombartmuseum.tulane.edu
SUMMARY:Third Thursday Exhibition Tour
DESCRIPTION:Join Tom Friel\, Coordinator for Interpretation & Public Engagement\, every third Thursday as he leads a tour of the current exhibition\, Unfamiliar Again: Contemporary Women Abstractionists.  \n\nFree and open to the public.  Contact Tom Friel at tfriel@tulane.edu with questions.
URL:https://newcombartmuseum.tulane.edu/event/third-thursday-exhibition-tour-3/
LOCATION:Newcomb Art Museum\, Woldenberg Art Center\, New Orleans\, LA\, 70118\, United States
CATEGORIES:Walk-Through
ATTACH;FMTTYPE=image/png:https://newcombartmuseum.tulane.edu/wp-content/uploads/sites/5/2017/09/Screen-Shot-2017-09-13-at-9.51.43-AM.png
END:VEVENT
END:VCALENDAR