BEGIN:VCALENDAR
VERSION:2.0
PRODID:-//Newcomb Art Museum - ECPv6.15.20//NONSGML v1.0//EN
CALSCALE:GREGORIAN
METHOD:PUBLISH
X-ORIGINAL-URL:https://newcombartmuseum.tulane.edu
X-WR-CALDESC:Events for Newcomb Art Museum
REFRESH-INTERVAL;VALUE=DURATION:PT1H
X-Robots-Tag:noindex
X-PUBLISHED-TTL:PT1H
BEGIN:VTIMEZONE
TZID:America/Chicago
BEGIN:DAYLIGHT
TZOFFSETFROM:-0600
TZOFFSETTO:-0500
TZNAME:CDT
DTSTART:20160313T080000
END:DAYLIGHT
BEGIN:STANDARD
TZOFFSETFROM:-0500
TZOFFSETTO:-0600
TZNAME:CST
DTSTART:20161106T070000
END:STANDARD
BEGIN:DAYLIGHT
TZOFFSETFROM:-0600
TZOFFSETTO:-0500
TZNAME:CDT
DTSTART:20170312T080000
END:DAYLIGHT
BEGIN:STANDARD
TZOFFSETFROM:-0500
TZOFFSETTO:-0600
TZNAME:CST
DTSTART:20171105T070000
END:STANDARD
BEGIN:DAYLIGHT
TZOFFSETFROM:-0600
TZOFFSETTO:-0500
TZNAME:CDT
DTSTART:20180311T080000
END:DAYLIGHT
BEGIN:STANDARD
TZOFFSETFROM:-0500
TZOFFSETTO:-0600
TZNAME:CST
DTSTART:20181104T070000
END:STANDARD
END:VTIMEZONE
BEGIN:VEVENT
DTSTART;TZID=America/Chicago:20171202T120000
DTEND;TZID=America/Chicago:20171202T150000
DTSTAMP:20260425T135801
CREATED:20171023T190124Z
LAST-MODIFIED:20171023T190124Z
UID:6689-1512216000-1512226800@newcombartmuseum.tulane.edu
SUMMARY:Episodes Performance Art Installation with Jarrell Hamilton
DESCRIPTION:“Episodes\,” a dance theatre work offers atypical depictions of black womanhood from African American ancestry to single motherhood. Jarrell Hamilton native New Orleanian and two- time Big Easy Classical Arts Award winner\, is the director and choreographer of “Episodes”\, an original evening-length choreographic work. “Episodes” is part performance and part performance art installation. The art installation component will be presented December 2\, 2017 (12 Noon to 3 PM) atNewcomb Art Museum and December 16\, 2017 (TTBA) at the Contemporary Arts Center\, New Orleans. The performance work will be presented January 24-27 at 8 PM and January 28 at 2 PM at Tulane’s Studio 300\, McWilliams Hall.
URL:https://newcombartmuseum.tulane.edu/event/episodes-performance-art-installation-with-jarrell-hamilton/
LOCATION:Newcomb Art Museum\, Woldenberg Art Center\, New Orleans\, LA\, 70118\, United States
CATEGORIES:Art Activity
ATTACH;FMTTYPE=image/jpeg:https://newcombartmuseum.tulane.edu/wp-content/uploads/sites/5/2017/10/20819499_10101684300734809_2803954863446728445_o.jpg
END:VEVENT
END:VCALENDAR