BEGIN:VCALENDAR
VERSION:2.0
PRODID:-//Newcomb Art Museum - ECPv6.15.20//NONSGML v1.0//EN
CALSCALE:GREGORIAN
METHOD:PUBLISH
X-WR-CALNAME:Newcomb Art Museum
X-ORIGINAL-URL:https://newcombartmuseum.tulane.edu
X-WR-CALDESC:Events for Newcomb Art Museum
REFRESH-INTERVAL;VALUE=DURATION:PT1H
X-Robots-Tag:noindex
X-PUBLISHED-TTL:PT1H
BEGIN:VTIMEZONE
TZID:America/Chicago
BEGIN:DAYLIGHT
TZOFFSETFROM:-0600
TZOFFSETTO:-0500
TZNAME:CDT
DTSTART:20170312T080000
END:DAYLIGHT
BEGIN:STANDARD
TZOFFSETFROM:-0500
TZOFFSETTO:-0600
TZNAME:CST
DTSTART:20171105T070000
END:STANDARD
BEGIN:DAYLIGHT
TZOFFSETFROM:-0600
TZOFFSETTO:-0500
TZNAME:CDT
DTSTART:20180311T080000
END:DAYLIGHT
BEGIN:STANDARD
TZOFFSETFROM:-0500
TZOFFSETTO:-0600
TZNAME:CST
DTSTART:20181104T070000
END:STANDARD
BEGIN:DAYLIGHT
TZOFFSETFROM:-0600
TZOFFSETTO:-0500
TZNAME:CDT
DTSTART:20190310T080000
END:DAYLIGHT
BEGIN:STANDARD
TZOFFSETFROM:-0500
TZOFFSETTO:-0600
TZNAME:CST
DTSTART:20191103T070000
END:STANDARD
END:VTIMEZONE
BEGIN:VEVENT
DTSTART;TZID=America/Chicago:20180124T180000
DTEND;TZID=America/Chicago:20180124T193000
DTSTAMP:20260424T040750
CREATED:20170928T201239Z
LAST-MODIFIED:20180109T164936Z
UID:6586-1516816800-1516822200@newcombartmuseum.tulane.edu
SUMMARY:Artist Talk: Dee Briggs
DESCRIPTION:Enjoy an artist lecture from sculptor Dee Briggs\, whose sculpture “Three Rings 6′ Diameter” is currently on display in The Newcomb Pottery Garden. \nAbout the sculpture: \nMade of corten steel\, the twelve-foot-tall sculpture was designed by Briggs in 2015\, fabricated in Braddock\, Pennsylvania and was previously installed in Foley Square at Thomas Paine Park in Lower Manhattan. \nAbout the sculptor:\nDee Briggs was born in 1968 in Burgettstown\, Pennsylvania. She received a Masters of Architecture degree from Yale University in 2002 with undergraduate studies in architecture at the City College of New York. Briggs exhibits nationally and has taught in the schools of art and architecture at Carnegie Mellon University. She lives and works in Pittsburgh. \nThis event will be held in Room 201 in Richardson Memorial Hall\, and is free and open to the public. This event is in collaboration with the Tulane School of Architecture.\n \n*The Newcomb Pottery Garden is given in loving memory of Judith Henkin by Jill & Avie Glazer and Family*
URL:https://newcombartmuseum.tulane.edu/event/artist-talk-dee-briggs/
LOCATION:Newcomb Art Museum\, Woldenberg Art Center\, New Orleans\, LA\, 70118\, United States
CATEGORIES:Artist Talk
ATTACH;FMTTYPE=image/jpeg:https://newcombartmuseum.tulane.edu/wp-content/uploads/sites/5/2017/07/DeeBriggs-3-e1500307013273.jpg
END:VEVENT
END:VCALENDAR