BEGIN:VCALENDAR
VERSION:2.0
PRODID:-//Newcomb Art Museum - ECPv6.15.20//NONSGML v1.0//EN
CALSCALE:GREGORIAN
METHOD:PUBLISH
X-WR-CALNAME:Newcomb Art Museum
X-ORIGINAL-URL:https://newcombartmuseum.tulane.edu
X-WR-CALDESC:Events for Newcomb Art Museum
REFRESH-INTERVAL;VALUE=DURATION:PT1H
X-Robots-Tag:noindex
X-PUBLISHED-TTL:PT1H
BEGIN:VTIMEZONE
TZID:America/Chicago
BEGIN:DAYLIGHT
TZOFFSETFROM:-0600
TZOFFSETTO:-0500
TZNAME:CDT
DTSTART:20170312T080000
END:DAYLIGHT
BEGIN:STANDARD
TZOFFSETFROM:-0500
TZOFFSETTO:-0600
TZNAME:CST
DTSTART:20171105T070000
END:STANDARD
BEGIN:DAYLIGHT
TZOFFSETFROM:-0600
TZOFFSETTO:-0500
TZNAME:CDT
DTSTART:20180311T080000
END:DAYLIGHT
BEGIN:STANDARD
TZOFFSETFROM:-0500
TZOFFSETTO:-0600
TZNAME:CST
DTSTART:20181104T070000
END:STANDARD
BEGIN:DAYLIGHT
TZOFFSETFROM:-0600
TZOFFSETTO:-0500
TZNAME:CDT
DTSTART:20190310T080000
END:DAYLIGHT
BEGIN:STANDARD
TZOFFSETFROM:-0500
TZOFFSETTO:-0600
TZNAME:CST
DTSTART:20191103T070000
END:STANDARD
END:VTIMEZONE
BEGIN:VEVENT
DTSTART;TZID=America/Chicago:20181023T183000
DTEND;TZID=America/Chicago:20181023T193000
DTSTAMP:20260424T211952
CREATED:20180813T202251Z
LAST-MODIFIED:20181023T154937Z
UID:9153-1540319400-1540323000@newcombartmuseum.tulane.edu
SUMMARY:Uncommon Exchanges: Sound
DESCRIPTION:Newcomb Art Museum\, in partnership with A Studio in the Woods\, The ByWater Institute at Tulane University\, and New Orleans Center for the Gulf South (Nola Gulf South)\, presents a unique dialogue\, centering on “sound\,” between Joel Dinerstein\, the Clark Chair of American Civilization at Tulane University and Dr. Renata Durães Ribeiro\, Professor of the Practice in Tulane’s Department of Ecology and Evolutionary Biology. Moderated by Newcomb’s curator Laura Blereau. \n___ \nFree and open to the public; held at Newcomb Art Museum.
URL:https://newcombartmuseum.tulane.edu/event/uncommon-exchanges-sound/
LOCATION:Newcomb Art Museum\, Woldenberg Art Center\, New Orleans\, LA\, 70118\, United States
CATEGORIES:Scholarly Talk
ATTACH;FMTTYPE=image/jpeg:https://newcombartmuseum.tulane.edu/wp-content/uploads/sites/5/2018/08/FB11-scaled.jpg
END:VEVENT
END:VCALENDAR