BEGIN:VCALENDAR
VERSION:2.0
PRODID:-//Newcomb Art Museum - ECPv6.15.20//NONSGML v1.0//EN
CALSCALE:GREGORIAN
METHOD:PUBLISH
X-WR-CALNAME:Newcomb Art Museum
X-ORIGINAL-URL:https://newcombartmuseum.tulane.edu
X-WR-CALDESC:Events for Newcomb Art Museum
REFRESH-INTERVAL;VALUE=DURATION:PT1H
X-Robots-Tag:noindex
X-PUBLISHED-TTL:PT1H
BEGIN:VTIMEZONE
TZID:America/Chicago
BEGIN:DAYLIGHT
TZOFFSETFROM:-0600
TZOFFSETTO:-0500
TZNAME:CDT
DTSTART:20170312T080000
END:DAYLIGHT
BEGIN:STANDARD
TZOFFSETFROM:-0500
TZOFFSETTO:-0600
TZNAME:CST
DTSTART:20171105T070000
END:STANDARD
BEGIN:DAYLIGHT
TZOFFSETFROM:-0600
TZOFFSETTO:-0500
TZNAME:CDT
DTSTART:20180311T080000
END:DAYLIGHT
BEGIN:STANDARD
TZOFFSETFROM:-0500
TZOFFSETTO:-0600
TZNAME:CST
DTSTART:20181104T070000
END:STANDARD
BEGIN:DAYLIGHT
TZOFFSETFROM:-0600
TZOFFSETTO:-0500
TZNAME:CDT
DTSTART:20190310T080000
END:DAYLIGHT
BEGIN:STANDARD
TZOFFSETFROM:-0500
TZOFFSETTO:-0600
TZNAME:CST
DTSTART:20191103T070000
END:STANDARD
END:VTIMEZONE
BEGIN:VEVENT
DTSTART;TZID=America/Chicago:20181113T183000
DTEND;TZID=America/Chicago:20181113T193000
DTSTAMP:20260425T075245
CREATED:20180813T202939Z
LAST-MODIFIED:20180813T202939Z
UID:9186-1542133800-1542137400@newcombartmuseum.tulane.edu
SUMMARY:Uncommon Exchanges: Fish
DESCRIPTION:Newcomb Art Museum\, in partnership with A Studio in the Woods\, The ByWater Institute at Tulane University\, and New Orleans Center for the Gulf South (Nola Gulf South)\, presents a unique dialogue\, centered around “fish\,” between Bruce Sunpie Barnes of Sunpie and the Louisiana Sunspots and Chef Ryan Prewitt of Peche Seafood Grill. Moderated by Rebecca Snedeker\, Clark Executive Director for the New Orleans Center for the Gulf South.\n____ \nFree and open to the public; takes place at Newcomb Art Museum.
URL:https://newcombartmuseum.tulane.edu/event/uncommon-exchanges-fish/
LOCATION:Newcomb Art Museum\, Woldenberg Art Center\, New Orleans\, LA\, 70118\, United States
CATEGORIES:Scholarly Talk
ATTACH;FMTTYPE=image/jpeg:https://newcombartmuseum.tulane.edu/wp-content/uploads/sites/5/2018/08/FB12-scaled.jpg
END:VEVENT
END:VCALENDAR