BEGIN:VCALENDAR
VERSION:2.0
PRODID:-//Newcomb Art Museum - ECPv6.15.20//NONSGML v1.0//EN
CALSCALE:GREGORIAN
METHOD:PUBLISH
X-WR-CALNAME:Newcomb Art Museum
X-ORIGINAL-URL:https://newcombartmuseum.tulane.edu
X-WR-CALDESC:Events for Newcomb Art Museum
REFRESH-INTERVAL;VALUE=DURATION:PT1H
X-Robots-Tag:noindex
X-PUBLISHED-TTL:PT1H
BEGIN:VTIMEZONE
TZID:America/Chicago
BEGIN:DAYLIGHT
TZOFFSETFROM:-0600
TZOFFSETTO:-0500
TZNAME:CDT
DTSTART:20170312T080000
END:DAYLIGHT
BEGIN:STANDARD
TZOFFSETFROM:-0500
TZOFFSETTO:-0600
TZNAME:CST
DTSTART:20171105T070000
END:STANDARD
BEGIN:DAYLIGHT
TZOFFSETFROM:-0600
TZOFFSETTO:-0500
TZNAME:CDT
DTSTART:20180311T080000
END:DAYLIGHT
BEGIN:STANDARD
TZOFFSETFROM:-0500
TZOFFSETTO:-0600
TZNAME:CST
DTSTART:20181104T070000
END:STANDARD
BEGIN:DAYLIGHT
TZOFFSETFROM:-0600
TZOFFSETTO:-0500
TZNAME:CDT
DTSTART:20190310T080000
END:DAYLIGHT
BEGIN:STANDARD
TZOFFSETFROM:-0500
TZOFFSETTO:-0600
TZNAME:CST
DTSTART:20191103T070000
END:STANDARD
END:VTIMEZONE
BEGIN:VEVENT
DTSTART;TZID=America/Chicago:20181220T120000
DTEND;TZID=America/Chicago:20181220T130000
DTSTAMP:20260424T212032
CREATED:20181117T194159Z
LAST-MODIFIED:20181214T163955Z
UID:9556-1545307200-1545310800@newcombartmuseum.tulane.edu
SUMMARY:Third Thursday Exhibition Tour
DESCRIPTION:Drop by the museum every Third Thursday at noon for a guided tour by museum staff of Newcomb Art Museum’s new art installation EMPIRE created by Fallen Fruit! \nFree and open to the public. Contact Tom Friel at tfriel@tulane.edu with questions.\n—\nWhat is EMPIRE? \nCelebrating the New Orleans tricentennial\, EMPIRE is an art installation by Los Angeles based artists Fallen Fruit (David Allen Burns and Austin Young) commissioned and presented by Newcomb Art Museum\, A Studio in the Woods\, and Pelican Bomb. Through the assembly of over 400 objects\, the artists will transform the entire museum into one immersive artwork that explores the history of people and place in terms of cultural legacy\, historical narrative\, and social constructs. \nThe project uses objects culled from the diverse archives and collections across Tulane’s campus\, including art\, sound\, documents of record\, material culture\, and artifacts. It activates objects held by the Hogan Jazz Archive\, The Latin American Library\, Louisiana Research Collection\, Middle American Research Institute\, Newcomb Art Museum\, Newcomb College Institute\, Royal D. Suttkus Fish Collection / Tulane University Biodiversity Research Institute\, Southeastern Architectural Archive\, Tulane Law Library\, and Tulane University Archives\, among other campus collections as well as the Amistad Research Center\, shifting the lexicon of historical meanings into one work of art. \nEMPIRE critically examines the principles of archives and anthropology to interrogate the ways histories are told\, remembered\, and revised. The immersive artwork considers the historical and contemporary effects that colonialism\, slavery\, trade\, and tourism have had on the movement of culture across and beyond borders to better understand the geographic and cultural position of New Orleans in relationship to Africa\, the Caribbean\, and Latin America. EMPIRE invites viewers to creatively interpret the displayed objects\, their connections\, and their juxtapositions to generate new meanings.
URL:https://newcombartmuseum.tulane.edu/event/third-thursday-exhibition-tour-10/
LOCATION:Newcomb Art Museum\, Woldenberg Art Center\, New Orleans\, LA\, 70118\, United States
CATEGORIES:Walk-Through
ATTACH;FMTTYPE=image/jpeg:https://newcombartmuseum.tulane.edu/wp-content/uploads/sites/5/2017/11/3Q9A4355-scaled.jpg
END:VEVENT
END:VCALENDAR