BEGIN:VCALENDAR
VERSION:2.0
PRODID:-//Newcomb Art Museum - ECPv6.15.20//NONSGML v1.0//EN
CALSCALE:GREGORIAN
METHOD:PUBLISH
X-WR-CALNAME:Newcomb Art Museum
X-ORIGINAL-URL:https://newcombartmuseum.tulane.edu
X-WR-CALDESC:Events for Newcomb Art Museum
REFRESH-INTERVAL;VALUE=DURATION:PT1H
X-Robots-Tag:noindex
X-PUBLISHED-TTL:PT1H
BEGIN:VTIMEZONE
TZID:America/Chicago
BEGIN:DAYLIGHT
TZOFFSETFROM:-0600
TZOFFSETTO:-0500
TZNAME:CDT
DTSTART:20180311T080000
END:DAYLIGHT
BEGIN:STANDARD
TZOFFSETFROM:-0500
TZOFFSETTO:-0600
TZNAME:CST
DTSTART:20181104T070000
END:STANDARD
BEGIN:DAYLIGHT
TZOFFSETFROM:-0600
TZOFFSETTO:-0500
TZNAME:CDT
DTSTART:20190310T080000
END:DAYLIGHT
BEGIN:STANDARD
TZOFFSETFROM:-0500
TZOFFSETTO:-0600
TZNAME:CST
DTSTART:20191103T070000
END:STANDARD
BEGIN:DAYLIGHT
TZOFFSETFROM:-0600
TZOFFSETTO:-0500
TZNAME:CDT
DTSTART:20200308T080000
END:DAYLIGHT
BEGIN:STANDARD
TZOFFSETFROM:-0500
TZOFFSETTO:-0600
TZNAME:CST
DTSTART:20201101T070000
END:STANDARD
END:VTIMEZONE
BEGIN:VEVENT
DTSTART;TZID=America/Chicago:20190511T110000
DTEND;TZID=America/Chicago:20190511T120000
DTSTAMP:20260424T062011
CREATED:20190422T165947Z
LAST-MODIFIED:20190506T142011Z
UID:9867-1557572400-1557576000@newcombartmuseum.tulane.edu
SUMMARY:Free Flower Craft Workshop
DESCRIPTION:Drop by Newcomb Art Museum for a fun and free crafting afternoon featuring Spring-inspired activities designed for all-ages and led by artist jackie sumell\, creator of “A Solitary Garden for Incarcerated Moms.” Using pressed flowers from the garden outside the museum\, this program features a Mother’s Day card-making station\, eco-printing activities and edible flowers. Presented in partnership with Speak Easy Farms\, this fun and multisensory event is free and open to all; we invite you to bring the whole family and explore the healing power of plants.\n–\n“A Solitary Garden for Incarcerated Moms” is installed in front of the museum in the Newcomb Pottery Garden dedicated in memory of Judith Henkin.
URL:https://newcombartmuseum.tulane.edu/event/free-flower-craft-workshop/
CATEGORIES:Art Activity,Workshop
ATTACH;FMTTYPE=image/jpeg:https://newcombartmuseum.tulane.edu/wp-content/uploads/sites/5/2019/04/57543644_10157209143588024_6822306239729369088_n.jpg
END:VEVENT
BEGIN:VEVENT
DTSTART;TZID=America/Chicago:20190511T120000
DTEND;TZID=America/Chicago:20190511T130000
DTSTAMP:20260424T062011
CREATED:20190422T165709Z
LAST-MODIFIED:20190422T165709Z
UID:9861-1557576000-1557579600@newcombartmuseum.tulane.edu
SUMMARY:Stroller Saturday Tour
DESCRIPTION:Bring your littlest art enthusiasts to the museum for Stroller Saturday! On the second Saturday of each month\, Newcomb Art Museum invites parents with young children to explore the museum early (10:30 am) before the doors officially open at 11. Museum staff will lead a tour that engages children and parents alike! Free and open to all parents and caregivers of small children!
URL:https://newcombartmuseum.tulane.edu/event/stroller-saturday-tour-2/
CATEGORIES:Just for Kids!,Tour
ATTACH;FMTTYPE=image/jpeg:https://newcombartmuseum.tulane.edu/wp-content/uploads/sites/5/2019/02/51591201_10157052668378024_8515079337869836288_n.jpg
END:VEVENT
BEGIN:VEVENT
DTSTART;TZID=America/Chicago:20190511T120000
DTEND;TZID=America/Chicago:20190511T130000
DTSTAMP:20260424T062011
CREATED:20190422T171711Z
LAST-MODIFIED:20190422T171711Z
UID:9871-1557576000-1557579600@newcombartmuseum.tulane.edu
SUMMARY:Free Exhibition Tour Led By Dolfinette Martin and Syrita Steib-Martin
DESCRIPTION:Join us on Saturday\, May 11 for an in-depth tour of “Per(Sister): Incarcerated Women of Louisiana” led by PerSisters and co-producers of the exhibition Dolfinette Martin and Syrita Steib Martin. Free and open to the public\, this tour is an amazing chance to hear first hand how this groundbreaking exhibition came together and learn more about the issues and women represented in the show. \nAbout Dolfinette Martin:\nDolfinette Martin\, the Operation Manager at Operation Restoration is a strong community leader who serves on the Formerly Incarcerated Transitional Clinic Advisory Board\, a clinic created for formerly incarcerated people\, the Criminal Background Check Review Panel for the Housing Authority of New Orleans (HANO). Dolfinette was appointed to New Orleans first female Mayor LaToya Cantrell transition team and Essence’s first ever all female criminal justice reform panel. She was a founding member and former president of the NOLA chapter of National Council for Incarcerated and Formerly Incarcerated Women and Girls. As a Formerly Incarcerated Person\, Dolfinette earned a college degree in 2015 after her release from prison in 2012\, and sets a powerful example for her children\, grandchildren and her community. She is frequently asked to contribute her knowledge\, expertise and wisdom on panels and media. A recipient of the John Thompson Leadership for Change Award and A Freedom Fighter Award\, she created the Formerly and Currently Incarcerated Women and Girls Reentry project within VOTEs organization. Governor John Bell Edwards recently appointed her to sit on the Louisiana Women’s Incarceration Task Force based on her legislative advocacy. \nAbout Syrita Steib-Martin:\nSyrita Steib-Martin is the Executive Director of Operation Restoration.OR. She has an unrelenting passion to help women successfully reenter into society after incarceration. At the age of 19\, she was sentenced to 120 months in federal prison. After serving 110 months\, she earned her B.S. from LSUHSC in New Orleans and became a nationally certified and licensed Clinical Laboratory Scientist. Syrita is the founder and Executive Director of Operation Restoration (OR). Syrita successfully drafted and passed Louisiana Act 276 which prohibits public post-secondary institutions in Louisiana from asking questions relating to criminal history for purposes of admissions\, making Louisiana the first to pass this type of legislation. She is working on the national Dignity for Incarcerated Women campaign after passing the legislation in Louisiana and regularly speaks at conferences across the nation about the experiences of incarcerated women. A panelist on the Empowerment stage at Essence Festival\, she was on Mayor Cantrell’s transition team in 2018\, was appointed to the Justice Reinvestment oversight council for the state of Louisiana\, and chairs the Louisiana Task Force on Women’s Incarceration.
URL:https://newcombartmuseum.tulane.edu/event/free-exhibition-tour-led-by-dolfinette-martin-and-syrita-steib-martin/
CATEGORIES:Tour
ATTACH;FMTTYPE=image/jpeg:https://newcombartmuseum.tulane.edu/wp-content/uploads/sites/5/2019/04/57343418_10157209390583024_2545054876371517440_n.jpg
END:VEVENT
BEGIN:VEVENT
DTSTART;TZID=America/Chicago:20190511T130000
DTEND;TZID=America/Chicago:20190511T134500
DTSTAMP:20260424T062011
CREATED:20190422T172520Z
LAST-MODIFIED:20190422T172520Z
UID:9875-1557579600-1557582300@newcombartmuseum.tulane.edu
SUMMARY:Free Performance By Members of the New Orleans Jazz Orchestra
DESCRIPTION:In honor of Mother’s Day Weekend and in conjunction with the exhibition “Per(Sister): Incarcerated Women of Louisiana\,” Newcomb Art Museum invites you to join them for a very special (and free!) performance by members of The New Orleans Jazz Orchestra- NOJO! \nLed by Victor Atkins on the keyboard\, the quintet from NOJO will perform original songs inspired by the stories of Louisiana’s incarcerated women in addition to a selection of music that celebrates motherhood! \nThis event will be held in Freeman Auditorium and is free and open for all to attend!
URL:https://newcombartmuseum.tulane.edu/event/free-performance-by-members-of-the-new-orleans-jazz-orchestra/
CATEGORIES:Performance
ATTACH;FMTTYPE=image/jpeg:https://newcombartmuseum.tulane.edu/wp-content/uploads/sites/5/2019/04/57317232_10157209296648024_2032982813480845312_o.jpg
END:VEVENT
BEGIN:VEVENT
DTSTART;TZID=America/Chicago:20190511T134500
DTEND;TZID=America/Chicago:20190511T150000
DTSTAMP:20260424T062011
CREATED:20190422T172627Z
LAST-MODIFIED:20190422T172627Z
UID:9879-1557582300-1557586800@newcombartmuseum.tulane.edu
SUMMARY:Per(Sister): A Conversation
DESCRIPTION:Join the Newcomb Art Museum in Freeman Auditorium for an open conversation with directly impacted women about the challenges facing currently and formerly incarcerated women in Louisiana. The conversation is held in conjunction with Newcomb Art Museum’s current exhibition “Per(Sister): Incarcerated Women of Louisiana” and is moderated and led by Syrita Steib Martin and Dolfinette Martin. \nThis event is free and open to the public. Email museum@tulane.edu or call 504.314.2406 with questions. \nAbout the exhibition:\nPer(Sister): Incarcerated Women of Louisiana presents the stories of thirty formerly incarcerated women as interpreted through brand new artworks and\, in doing so\, brings light to the myriad issues facing this community as well as the incredible resilience and strength of survivors. The exhibition showcases stories of loss\, hope\, despair\, survival\, triumph\, and persistence and invites everyone to stand witness to this moment in time and find ways to empathetically\, and collectively\, move forward. Head to persister.info to learn more about this impactful exhibition.
URL:https://newcombartmuseum.tulane.edu/event/persister-a-conversation/
CATEGORIES:Panel Discussion
ATTACH;FMTTYPE=image/jpeg:https://newcombartmuseum.tulane.edu/wp-content/uploads/sites/5/2019/04/57090125_10157209411893024_7174599424650248192_o.jpg
END:VEVENT
END:VCALENDAR