BEGIN:VCALENDAR
VERSION:2.0
PRODID:-//Newcomb Art Museum - ECPv6.15.20//NONSGML v1.0//EN
CALSCALE:GREGORIAN
METHOD:PUBLISH
X-WR-CALNAME:Newcomb Art Museum
X-ORIGINAL-URL:https://newcombartmuseum.tulane.edu
X-WR-CALDESC:Events for Newcomb Art Museum
REFRESH-INTERVAL;VALUE=DURATION:PT1H
X-Robots-Tag:noindex
X-PUBLISHED-TTL:PT1H
BEGIN:VTIMEZONE
TZID:America/Chicago
BEGIN:DAYLIGHT
TZOFFSETFROM:-0600
TZOFFSETTO:-0500
TZNAME:CDT
DTSTART:20190310T080000
END:DAYLIGHT
BEGIN:STANDARD
TZOFFSETFROM:-0500
TZOFFSETTO:-0600
TZNAME:CST
DTSTART:20191103T070000
END:STANDARD
BEGIN:DAYLIGHT
TZOFFSETFROM:-0600
TZOFFSETTO:-0500
TZNAME:CDT
DTSTART:20200308T080000
END:DAYLIGHT
BEGIN:STANDARD
TZOFFSETFROM:-0500
TZOFFSETTO:-0600
TZNAME:CST
DTSTART:20201101T070000
END:STANDARD
BEGIN:DAYLIGHT
TZOFFSETFROM:-0600
TZOFFSETTO:-0500
TZNAME:CDT
DTSTART:20210314T080000
END:DAYLIGHT
BEGIN:STANDARD
TZOFFSETFROM:-0500
TZOFFSETTO:-0600
TZNAME:CST
DTSTART:20211107T070000
END:STANDARD
END:VTIMEZONE
BEGIN:VEVENT
DTSTART;TZID=America/Chicago:20200416T120000
DTEND;TZID=America/Chicago:20200416T123000
DTSTAMP:20260423T225642
CREATED:20200413T160322Z
LAST-MODIFIED:20200413T160322Z
UID:10858-1587038400-1587040200@newcombartmuseum.tulane.edu
SUMMARY:Exhibition Tour (Online!)
DESCRIPTION:On the Third Thursday of each month at noon Newcomb Art Museum offers a free guided tour of our current exhibition “N̶O̶T̶ Supposed 2-Be Here.” Join us Thursday\, April 16 for an online exhibition tour led by the museum’s Coordinator for Interpretation & Public Engagement\, Tom Friel as we drop a brand new video on our website and Facebook at 12 pm CST.
URL:https://newcombartmuseum.tulane.edu/event/exhibition-tour-online/
CATEGORIES:Tour
END:VEVENT
END:VCALENDAR