BEGIN:VCALENDAR
VERSION:2.0
PRODID:-//Newcomb Art Museum - ECPv6.15.20//NONSGML v1.0//EN
CALSCALE:GREGORIAN
METHOD:PUBLISH
X-WR-CALNAME:Newcomb Art Museum
X-ORIGINAL-URL:https://newcombartmuseum.tulane.edu
X-WR-CALDESC:Events for Newcomb Art Museum
REFRESH-INTERVAL;VALUE=DURATION:PT1H
X-Robots-Tag:noindex
X-PUBLISHED-TTL:PT1H
BEGIN:VTIMEZONE
TZID:America/Chicago
BEGIN:DAYLIGHT
TZOFFSETFROM:-0600
TZOFFSETTO:-0500
TZNAME:CDT
DTSTART:20190310T080000
END:DAYLIGHT
BEGIN:STANDARD
TZOFFSETFROM:-0500
TZOFFSETTO:-0600
TZNAME:CST
DTSTART:20191103T070000
END:STANDARD
BEGIN:DAYLIGHT
TZOFFSETFROM:-0600
TZOFFSETTO:-0500
TZNAME:CDT
DTSTART:20200308T080000
END:DAYLIGHT
BEGIN:STANDARD
TZOFFSETFROM:-0500
TZOFFSETTO:-0600
TZNAME:CST
DTSTART:20201101T070000
END:STANDARD
BEGIN:DAYLIGHT
TZOFFSETFROM:-0600
TZOFFSETTO:-0500
TZNAME:CDT
DTSTART:20210314T080000
END:DAYLIGHT
BEGIN:STANDARD
TZOFFSETFROM:-0500
TZOFFSETTO:-0600
TZNAME:CST
DTSTART:20211107T070000
END:STANDARD
END:VTIMEZONE
BEGIN:VEVENT
DTSTART;TZID=America/Chicago:20200430T150000
DTEND;TZID=America/Chicago:20200430T161500
DTSTAMP:20260424T135839
CREATED:20200421T151617Z
LAST-MODIFIED:20200421T151859Z
UID:10875-1588258800-1588263300@newcombartmuseum.tulane.edu
SUMMARY:Per(Sister) in Song: Virtual Concert
DESCRIPTION:Celebrate the art of song at a free concert hosted by the Ford Foundation Gallery\, featuring music and performances by Lynn Drury\, Sarah Quintana\, Spirit McIntyre\, Margie Perez\, and Keith Porteous. Held in conjunction with the exhibition Per(Sister): Incarcerated Women of Louisiana\, Per(Sister) in Song is an invitation to dive deeper into the stories behind the music and celebrate the incredible resilience displayed in the community featured in the exhibition. \nFrom rock to Americana\, blues to jazz\, and folk to pop\, the concert is a sample of the unique sounds of Louisiana and the intimate stories of the women incarcerated by the state. The performance—like the exhibition—not only presents the personal experiences of the women who inspired the songs but shines a light on the myriad issues facing formerly and currently incarcerated women. \nIntended to engage\, inspire\, and challenge the audience\, the concert is an immersive experience that celebrates the power of storytelling as well as the women in the stories and their persistence in their drive for the integral survival of their mind\, body\, and soul. \nClick here to register for this free concert!
URL:https://newcombartmuseum.tulane.edu/event/persister-in-song-virtual-concert/
CATEGORIES:Performance
ATTACH;FMTTYPE=image/jpeg:https://newcombartmuseum.tulane.edu/wp-content/uploads/sites/5/2020/04/per-sister-_in_song.jpg
END:VEVENT
END:VCALENDAR