BEGIN:VCALENDAR
VERSION:2.0
PRODID:-//Newcomb Art Museum - ECPv6.15.20//NONSGML v1.0//EN
CALSCALE:GREGORIAN
METHOD:PUBLISH
X-WR-CALNAME:Newcomb Art Museum
X-ORIGINAL-URL:https://newcombartmuseum.tulane.edu
X-WR-CALDESC:Events for Newcomb Art Museum
REFRESH-INTERVAL;VALUE=DURATION:PT1H
X-Robots-Tag:noindex
X-PUBLISHED-TTL:PT1H
BEGIN:VTIMEZONE
TZID:America/Chicago
BEGIN:DAYLIGHT
TZOFFSETFROM:-0600
TZOFFSETTO:-0500
TZNAME:CDT
DTSTART:20190310T080000
END:DAYLIGHT
BEGIN:STANDARD
TZOFFSETFROM:-0500
TZOFFSETTO:-0600
TZNAME:CST
DTSTART:20191103T070000
END:STANDARD
BEGIN:DAYLIGHT
TZOFFSETFROM:-0600
TZOFFSETTO:-0500
TZNAME:CDT
DTSTART:20200308T080000
END:DAYLIGHT
BEGIN:STANDARD
TZOFFSETFROM:-0500
TZOFFSETTO:-0600
TZNAME:CST
DTSTART:20201101T070000
END:STANDARD
BEGIN:DAYLIGHT
TZOFFSETFROM:-0600
TZOFFSETTO:-0500
TZNAME:CDT
DTSTART:20210314T080000
END:DAYLIGHT
BEGIN:STANDARD
TZOFFSETFROM:-0500
TZOFFSETTO:-0600
TZNAME:CST
DTSTART:20211107T070000
END:STANDARD
END:VTIMEZONE
BEGIN:VEVENT
DTSTART;TZID=America/Chicago:20200514T120000
DTEND;TZID=America/Chicago:20200514T130000
DTSTAMP:20260424T091926
CREATED:20200512T212412Z
LAST-MODIFIED:20200512T212412Z
UID:10971-1589457600-1589461200@newcombartmuseum.tulane.edu
SUMMARY:Third Thursday Tiffany Tour
DESCRIPTION:For the first time since starting our monthly Tiffany Window tours\, we’ll be exploring in detail the #TiffanyWindows on the other side of campus! This special virtual tour will look at the “Art” and “Literature” windows located in Tilton Memorial and their place within the illustrious career of Louis Comfort Tiffany. \nAbout this tour:\nIn 1901\, as the Tilton Memorial Library was being built on Tulane University’s campus\, Caroline Stannard Tilton commissioned Tiffany Studios for the design and creation of two memorial stained-glass windows to be placed in the building. Today\, these windows – “Art” and “Literature” – stand as the best examples of secular windows within the Newcomb Art Museum collection. Remarkably\, they have remained in their original location to this day\, owing to their good condition. \nLearn more about these incredible #TulaneTreasures this Thursday at noon when we drop a brand new video tour led by Tom Friel\, the museum’s Coordinator for Interpretation & Public Engagement.
URL:https://newcombartmuseum.tulane.edu/event/third-thursday-tiffany-tour/
CATEGORIES:Tour
ATTACH;FMTTYPE=image/jpeg:https://newcombartmuseum.tulane.edu/wp-content/uploads/sites/5/2020/05/090718-tiffany-windows800-rr-7275.jpg
END:VEVENT
END:VCALENDAR