BEGIN:VCALENDAR
VERSION:2.0
PRODID:-//Newcomb Art Museum - ECPv6.15.20//NONSGML v1.0//EN
CALSCALE:GREGORIAN
METHOD:PUBLISH
X-WR-CALNAME:Newcomb Art Museum
X-ORIGINAL-URL:https://newcombartmuseum.tulane.edu
X-WR-CALDESC:Events for Newcomb Art Museum
REFRESH-INTERVAL;VALUE=DURATION:PT1H
X-Robots-Tag:noindex
X-PUBLISHED-TTL:PT1H
BEGIN:VTIMEZONE
TZID:America/Chicago
BEGIN:DAYLIGHT
TZOFFSETFROM:-0600
TZOFFSETTO:-0500
TZNAME:CDT
DTSTART:20170312T080000
END:DAYLIGHT
BEGIN:STANDARD
TZOFFSETFROM:-0500
TZOFFSETTO:-0600
TZNAME:CST
DTSTART:20171105T070000
END:STANDARD
BEGIN:DAYLIGHT
TZOFFSETFROM:-0600
TZOFFSETTO:-0500
TZNAME:CDT
DTSTART:20180311T080000
END:DAYLIGHT
BEGIN:STANDARD
TZOFFSETFROM:-0500
TZOFFSETTO:-0600
TZNAME:CST
DTSTART:20181104T070000
END:STANDARD
BEGIN:DAYLIGHT
TZOFFSETFROM:-0600
TZOFFSETTO:-0500
TZNAME:CDT
DTSTART:20190310T080000
END:DAYLIGHT
BEGIN:STANDARD
TZOFFSETFROM:-0500
TZOFFSETTO:-0600
TZNAME:CST
DTSTART:20191103T070000
END:STANDARD
END:VTIMEZONE
BEGIN:VEVENT
DTSTART;TZID=America/Chicago:20180703T100000
DTEND;TZID=America/Chicago:20180704T170000
DTSTAMP:20260424T162002
CREATED:20180627T162622Z
LAST-MODIFIED:20180627T162636Z
UID:8592-1530612000-1530723600@newcombartmuseum.tulane.edu
SUMMARY:Museum Closed for Fourth of July Holiday
DESCRIPTION:The museum will be closed July 3rd and 4th in celebration of Independence Day; we will reopen on July 5th at 10 am.
URL:https://newcombartmuseum.tulane.edu/event/museum-closed-for-fourth-of-july-holiday/
LOCATION:Newcomb Art Museum\, Woldenberg Art Center\, New Orleans\, LA\, 70118\, United States
ATTACH;FMTTYPE=image/png:https://newcombartmuseum.tulane.edu/wp-content/uploads/sites/5/2018/06/Screen-Shot-2018-06-27-at-11.25.16-AM.png
END:VEVENT
BEGIN:VEVENT
DTSTART;TZID=America/Chicago:20180706T120000
DTEND;TZID=America/Chicago:20180706T130000
DTSTAMP:20260424T162002
CREATED:20180322T161211Z
LAST-MODIFIED:20180322T161211Z
UID:7991-1530878400-1530882000@newcombartmuseum.tulane.edu
SUMMARY:First Friday Collections Tours
DESCRIPTION:Have you ever wanted to get a behind-the-scenes look at Newcomb Art Museum’s incredible collection of Newcomb Pottery? Then drop by on the first Friday of each month for a guided tour highlighting our permanent collection of Newcomb Pottery and the history of the Newcomb Enterprise! \nThe tour is free but IS STRICTLY LIMITED to the first 10 people due to space restrictions. Please reach out to Tom Friel at tfriel@tulane.edu regarding any questions and to RSVP for a tour.
URL:https://newcombartmuseum.tulane.edu/event/first-friday-collections-tours/
LOCATION:Newcomb Art Museum\, Woldenberg Art Center\, New Orleans\, LA\, 70118\, United States
CATEGORIES:Walk-Through
ATTACH;FMTTYPE=image/jpeg:https://newcombartmuseum.tulane.edu/wp-content/uploads/sites/5/2017/12/3Q9A4062-scaled.jpg
END:VEVENT
BEGIN:VEVENT
DTSTART;TZID=America/Chicago:20180708T100000
DTEND;TZID=America/Chicago:20180820T170000
DTSTAMP:20260424T162002
CREATED:20180625T141747Z
LAST-MODIFIED:20180625T142720Z
UID:8568-1531044000-1534784400@newcombartmuseum.tulane.edu
SUMMARY:Museum Open by Appointment Only
DESCRIPTION:Please note: Between July 8 and August 20 the museum will be open by appointment only. Call the museum at 504-865-5328 or email the museum at museum@tulane.edu to schedule a visit.  \nThe museum will resume regular hours on Tuesday\, August 21.
URL:https://newcombartmuseum.tulane.edu/event/museum-open-by-appointment-only/
LOCATION:Newcomb Art Museum\, Woldenberg Art Center\, New Orleans\, LA\, 70118\, United States
ATTACH;FMTTYPE=image/jpeg:https://newcombartmuseum.tulane.edu/wp-content/uploads/sites/5/2017/11/3Q9A4544-scaled.jpg
END:VEVENT
END:VCALENDAR