BEGIN:VCALENDAR
VERSION:2.0
PRODID:-//Newcomb Art Museum - ECPv6.15.20//NONSGML v1.0//EN
CALSCALE:GREGORIAN
METHOD:PUBLISH
X-WR-CALNAME:Newcomb Art Museum
X-ORIGINAL-URL:https://newcombartmuseum.tulane.edu
X-WR-CALDESC:Events for Newcomb Art Museum
REFRESH-INTERVAL;VALUE=DURATION:PT1H
X-Robots-Tag:noindex
X-PUBLISHED-TTL:PT1H
BEGIN:VTIMEZONE
TZID:America/Chicago
BEGIN:DAYLIGHT
TZOFFSETFROM:-0600
TZOFFSETTO:-0500
TZNAME:CDT
DTSTART:20170312T080000
END:DAYLIGHT
BEGIN:STANDARD
TZOFFSETFROM:-0500
TZOFFSETTO:-0600
TZNAME:CST
DTSTART:20171105T070000
END:STANDARD
BEGIN:DAYLIGHT
TZOFFSETFROM:-0600
TZOFFSETTO:-0500
TZNAME:CDT
DTSTART:20180311T080000
END:DAYLIGHT
BEGIN:STANDARD
TZOFFSETFROM:-0500
TZOFFSETTO:-0600
TZNAME:CST
DTSTART:20181104T070000
END:STANDARD
BEGIN:DAYLIGHT
TZOFFSETFROM:-0600
TZOFFSETTO:-0500
TZNAME:CDT
DTSTART:20190310T080000
END:DAYLIGHT
BEGIN:STANDARD
TZOFFSETFROM:-0500
TZOFFSETTO:-0600
TZNAME:CST
DTSTART:20191103T070000
END:STANDARD
END:VTIMEZONE
BEGIN:VEVENT
DTSTART;TZID=America/Chicago:20180906T173000
DTEND;TZID=America/Chicago:20180906T203000
DTSTAMP:20260424T222437
CREATED:20180802T204501Z
LAST-MODIFIED:20180905T142747Z
UID:8975-1536255000-1536265800@newcombartmuseum.tulane.edu
SUMMARY:Welcome Back Reception
DESCRIPTION:Join us for a welcome back reception and another chance to explore our tricentennial exhibition EMPIRE after hours! Now incorporating a recently acquired piece from Brandan “Bmike” Odums\, this immersive installation by Fallen Fruit merits an additional visit!\n\n\n \n\n\n5:30 pm – VIP Members Reception (not a member? Join in August during museum month for a 25% discount!)\n\n\n6:30 pm – Artist talk with Bmike whose work “Alchemist” is on view in EMPIRE\n\n\n7:30 pm – Public reception featuring food\, drinks\, music from T-Ray the violinist\, and more!\n\n\n \n\n\nAbout the exhibition:\n\n\nCelebrating the New Orleans tricentennial\, EMPIRE is an art installation by Los Angeles based artists Fallen Fruit (David Allen Burns and Austin Young) commissioned and presented by Newcomb Art Museum\, A Studio in the Woods\, and Pelican Bomb. Through the assembly of over 400 objects\, the artists transformed the entire museum into one immersive artwork that explores the history of people and place in terms of cultural legacy\, historical narrative\, and social constructs.\n\n\n \n\n\nEMPIRE at Newcomb Art Museum of Tulane University is part of “Fallen Fruit of New Orleans” a suite of site-specific projects taking place throughout New Orleans from June 2017 through June 2018\, commissioned and presented by Newcomb Art Museum\, A Studio in the Woods\, and Pelican Bomb. “Fallen Fruit of New Orleans” was initiated by Pelican Bomb in 2015.\n\n\n \n\n\nAbout Bmike:\n\n\nBrandan “Bmike” Odums is a highly sought after visual artist and filmmaker who uses these chosen mediums to tell stories and make statements that transform the minds of viewers as well as the spaces in which his work appears.\n\n\n \n\n\nIn 2016 Brandan debuted his first solo show in New Orleans in a 35\,000 sq ft warehouse named #Studio Be. Welcoming hundreds of visitors a week as well as school tours from around the region.\n\n\n \n\n\nIn 2013\, Brandan completed a series of graffiti murals depicting iconic African American civil rights leaders at the Hurricane Katrina damaged Florida Avenue public housing complex in New Orleans’ 9th Ward. Given the name #ProjectBe\, the space unexpectedly received national attention bringing spectators from all over to see the art before the deserted complex’s set demolition date.\n\n\n \n\n\nFollowing the success of #ProjectBe\, Brandan came across another abandoned five-story apartment building on the West Bank in New Orleans in 2014 and began working on #ExhibitBe. The completed space was the largest street art gathering in the South gaining national attention and welcoming over 30\,000 visitors during its three month opening.\n\n\n \n\n\nBrandan’s other passions lie in the New Orleans community. He is the founder and director of 2-Cent Entertainment LLC – a New Orleans based youth education social enterprise that produces mixed media content and workshops in the overlap between pop culture and social awareness. Partnering with organizations like Scholastic and Better World Books to give away tens of thousands of books to local youth\, 2-Cent services countless youth in New Orleans. 2-Cent Summer Session – media arts camp\, in New Orleans I currently entering it’s 4th year.\n\n\n \n\n\nAs a Filmmaker his directed music videos has appeared on MTV\, VH1 and BET\, Brandan has been honored as one of “20 Artist You Should Know” by Complex.com\, Presidential volunteer award from the white house\, and a Joan Mitchell Foundation Fellowship recipient.
URL:https://newcombartmuseum.tulane.edu/event/welcome-back-reception/
LOCATION:Newcomb Art Museum\, Woldenberg Art Center\, New Orleans\, LA\, 70118\, United States
CATEGORIES:Exhibition Reception
ATTACH;FMTTYPE=image/jpeg:https://newcombartmuseum.tulane.edu/wp-content/uploads/sites/5/2018/08/FB3-scaled.jpg
END:VEVENT
BEGIN:VEVENT
DTSTART;TZID=America/Chicago:20180908T120000
DTEND;TZID=America/Chicago:20180908T130000
DTSTAMP:20260424T222437
CREATED:20180802T204743Z
LAST-MODIFIED:20180802T204743Z
UID:8996-1536408000-1536411600@newcombartmuseum.tulane.edu
SUMMARY:Exhibition Tour with Mohan Ambikaipaker
DESCRIPTION:Join Tulane professor Mohan Ambikaipaker as he leads an exploration of some of the racially charged materials and objects on view from the turn of the century. This tour will address how the exhibition provokes discussion and continued research surrounding topics of racial identity in New Orleans.
URL:https://newcombartmuseum.tulane.edu/event/exhibition-tour-with-mohan-ambikaipaker/
LOCATION:Newcomb Art Museum\, Woldenberg Art Center\, New Orleans\, LA\, 70118\, United States
CATEGORIES:Walk-Through
ATTACH;FMTTYPE=image/jpeg:https://newcombartmuseum.tulane.edu/wp-content/uploads/sites/5/2018/08/FB-scaled.jpg
END:VEVENT
BEGIN:VEVENT
DTSTART;TZID=America/Chicago:20180912T190000
DTEND;TZID=America/Chicago:20180912T203000
DTSTAMP:20260424T222437
CREATED:20180802T204909Z
LAST-MODIFIED:20180802T204909Z
UID:9005-1536778800-1536784200@newcombartmuseum.tulane.edu
SUMMARY:Film Screening
DESCRIPTION:Join us for a free screening of “All On A Mardi Gras Day\,” directed by Royce Osborn\, a prominent filmmaker known for his work chronicling African American cultural celebrations in New Orleans.
URL:https://newcombartmuseum.tulane.edu/event/film-screening/
LOCATION:Newcomb Art Museum\, Woldenberg Art Center\, New Orleans\, LA\, 70118\, United States
CATEGORIES:Film
ATTACH;FMTTYPE=image/jpeg:https://newcombartmuseum.tulane.edu/wp-content/uploads/sites/5/2018/08/FB2-scaled.jpg
END:VEVENT
BEGIN:VEVENT
DTSTART;TZID=America/Chicago:20180920T183000
DTEND;TZID=America/Chicago:20180920T193000
DTSTAMP:20260424T222437
CREATED:20180802T205058Z
LAST-MODIFIED:20180802T205208Z
UID:9017-1537468200-1537471800@newcombartmuseum.tulane.edu
SUMMARY:Artist Talk with Monique Verdin
DESCRIPTION:Artist Monique Verdin will discuss her artistic practice as it relates to displacement\, EMPIRE\, and the 300th anniversary of New Orleans and its colonial founding. \n\nMonique Verdin is a member of south Louisiana’s United Houma Nation Tribal Council and a part of the Another Gulf Is Possible Collaborative core leadership circle of brown (indigenous\, latinx and desi) women\, from Texas to Florida\, working to envision just economies\, vibrant communities and sustainable ecologies. Monique is also a member of the L’eau et La Vie (Water is Life) Bayou Bridge pipeline resistance camp council. She has intimately documented the complex interconnectedness of environment\, economics\, culture\, climate and change in southeast Louisiana\, for decades. Her indigenous Houma relatives and their life ways at the ends of the bayous\, in the heart of America’s Mississippi River Delta\, has been the primary focus of her storytelling practice. She is the subject/co-writer/co-producer of the documentary My Louisiana Love. Her interdisciplinary work has been included in an assortment of environmentally inspired projects\, including the multiplatform/performance/ecoexperience Cry You One as well as the publication Unfathomable City : A New Orleans Atlas. Monique is also the director of The Land Memory Bank & Seed Exchange. The Land Memory Bank is a series of southeast Louisiana activations sharing native seeds and local knowledge through citizen collaboration\, attempting to building a community record of history and present\, while seeking sustainable solutions.
URL:https://newcombartmuseum.tulane.edu/event/artist-talk-with-monique-verdin/
LOCATION:Freeman Auditorium\, Woldenberg Art Center\, Tulane University\, New Orleans\, United States
CATEGORIES:Artist Talk
ATTACH;FMTTYPE=image/jpeg:https://newcombartmuseum.tulane.edu/wp-content/uploads/sites/5/2018/08/Verdin_headshot.jpg
END:VEVENT
BEGIN:VEVENT
DTSTART;TZID=America/Chicago:20180927T183000
DTEND;TZID=America/Chicago:20180927T193000
DTSTAMP:20260424T222437
CREATED:20180802T205836Z
LAST-MODIFIED:20180829T162827Z
UID:9038-1538073000-1538076600@newcombartmuseum.tulane.edu
SUMMARY:Artists with Arthritis Talk
DESCRIPTION:Dr. James Louie will chronicle the lives and art of three inspiring artists: Pierre-Auguste Renoir with rheumatoid arthritis\, Paul Klee with scleroderma\, and Ruth Asawa who was inflicted with lupus. The talk will explore how these artists took charge of their respective diseases and continued to express themselves visually despite their medical and physical challenges. \n\nDr. Louie earned his medical degree at Washington University\, St. Louis\, Missouri\, trained in internal medicine at Johns Hopkins Hospital\, Baltimore\, Maryland\, and completed Fellowships in Rheumatology and Clinical Immunology at UCLA.  He then served as Chief\, Medical Resident in internal medicine at UCLA. \nFollowing a sabbatical at the NIH\, he served as Chief\, Division of Rheumatology\, at the Los Angeles County Harbor-UCLA Medical Center in Torrance\, California\, and as faculty member in the Department of Medicine at the University of California\, Los Angeles (UCLA) School of Medicine for 30 years.  He then facilitated translational and clinical studies of biologic therapies at Amgen fro 2002 to 2007. \nWith expertise in inflammatory immune-mediated and infectious rheumatic diseases\, Dr. Louie has authored or coauthored more than 60 peer-reviewed research papers\, authored several chapters and co-edited texts.  Dr. Louie is recognized as a Master of the American College of Rheumatology and as a Fellow of the American College of Physicians.  Currently\, Dr. Louie is Professor Emeritus of Medicine\,  teaching and assisting in clinical studies at the UCLA School of Medicine.
URL:https://newcombartmuseum.tulane.edu/event/artists-with-arthritis-talk/
LOCATION:Stone Auditorium\, Woldenberg Art Center\, New Orleans
CATEGORIES:Scholarly Talk
ATTACH;FMTTYPE=image/jpeg:https://newcombartmuseum.tulane.edu/wp-content/uploads/sites/5/2018/08/UCLA-photo-2013-e1533243565458-scaled.jpg
END:VEVENT
END:VCALENDAR