BEGIN:VCALENDAR
VERSION:2.0
PRODID:-//Newcomb Art Museum - ECPv6.15.20//NONSGML v1.0//EN
CALSCALE:GREGORIAN
METHOD:PUBLISH
X-WR-CALNAME:Newcomb Art Museum
X-ORIGINAL-URL:https://newcombartmuseum.tulane.edu
X-WR-CALDESC:Events for Newcomb Art Museum
REFRESH-INTERVAL;VALUE=DURATION:PT1H
X-Robots-Tag:noindex
X-PUBLISHED-TTL:PT1H
BEGIN:VTIMEZONE
TZID:America/Chicago
BEGIN:DAYLIGHT
TZOFFSETFROM:-0600
TZOFFSETTO:-0500
TZNAME:CDT
DTSTART:20170312T080000
END:DAYLIGHT
BEGIN:STANDARD
TZOFFSETFROM:-0500
TZOFFSETTO:-0600
TZNAME:CST
DTSTART:20171105T070000
END:STANDARD
BEGIN:DAYLIGHT
TZOFFSETFROM:-0600
TZOFFSETTO:-0500
TZNAME:CDT
DTSTART:20180311T080000
END:DAYLIGHT
BEGIN:STANDARD
TZOFFSETFROM:-0500
TZOFFSETTO:-0600
TZNAME:CST
DTSTART:20181104T070000
END:STANDARD
BEGIN:DAYLIGHT
TZOFFSETFROM:-0600
TZOFFSETTO:-0500
TZNAME:CDT
DTSTART:20190310T080000
END:DAYLIGHT
BEGIN:STANDARD
TZOFFSETFROM:-0500
TZOFFSETTO:-0600
TZNAME:CST
DTSTART:20191103T070000
END:STANDARD
END:VTIMEZONE
BEGIN:VEVENT
DTSTART;TZID=America/Chicago:20181001T183000
DTEND;TZID=America/Chicago:20181001T193000
DTSTAMP:20260424T161957
CREATED:20180802T210332Z
LAST-MODIFIED:20180913T180445Z
UID:9053-1538418600-1538422200@newcombartmuseum.tulane.edu
SUMMARY:Artist Talk with Nicole Awai
DESCRIPTION:This program has been generously supported by the Dorothy Beckemeyer Skau Art and Music Fund at the Newcomb College Institute. \nNicole Awai is known for her multi-media works that “ooze” and make use of non-traditional mediums such as melted vinyl\, nail polish\, nylon mesh\, found doll parts\, and synthetic paper. In this lecture\, she will discuss her recent installation in Brooklyn\, “Persistent Resistance of the Liquid Land” and how her art is a site of historical confluences. Exploring the elasticity of time\, space and place in the Americas\, this talk will also include earlier projects influenced by the Caribbean landscape\, in particular the La Brea Pitch Lake in Trinidad. \n\nNicole Awai is a multi media artist. She earned her Master’s Degree in Multimedia Art from the University of South Florida in 1996. She attended the Skowhegan School of Painting and Sculpture residency in 1997 and was artist in residence at the Studio Museum in Harlem in 2000. Awai was a featured artist in the 2005 Initial Public Offerings series at the Whitney Museum of American Art. Awai was awarded the Joan Mitchell Foundation Painters and Sculptors Grant in 2011 and an Art Matters Grant in 2012. \nHer work has been included in seminal exhibitions such as Greater New York: New Art in New York Now\, at P.S. 1/ MOMA (2000)\, the Biennale of Ceramic in Contemporary Art (2003)\, Open House: Working in Brooklyn (2004)\, Infinite Island: Contemporary Caribbean Art (2007) both at the Brooklyn Museum and the 2008 Busan Biennale in Korea. Her work has also been exhibited at the Queens Museum\, Kemper Museum of Contemporary\, The Vilcek Foundation\, The Biennale of the Caribbean in Aruba (2013) and Susan Inglett Gallery. \nRecent exhibitions include SHE: Deconstructing Female Identity at ArtsWestchester and Splotch at Sperone Westwater. Nicole Awai: Vistas at Lesley Heller Workspace is on view May 17th through June 30th\, 2017. Awai was a Critic at the Yale School of Art in the Department of Painting and Printmaking from 2009-2015. Awai is currently faculty in the Department of Art and Art History at the University of Texas at Austin.
URL:https://newcombartmuseum.tulane.edu/event/artist-talk-with-nicole-awai/
LOCATION:Freeman Auditorium\, Woldenberg Art Center\, Tulane University\, New Orleans\, United States
CATEGORIES:Artist Talk
ATTACH;FMTTYPE=image/jpeg:https://newcombartmuseum.tulane.edu/wp-content/uploads/sites/5/2018/08/awai-port-2.jpg
END:VEVENT
BEGIN:VEVENT
DTSTART;TZID=America/Chicago:20181005T183000
DTEND;TZID=America/Chicago:20181005T203000
DTSTAMP:20260424T161957
CREATED:20180918T143733Z
LAST-MODIFIED:20180918T143733Z
UID:9391-1538764200-1538771400@newcombartmuseum.tulane.edu
SUMMARY:Free Performance of Postcards from Over the Edge
DESCRIPTION:Postcards From Over the Edge is an expedition through New Orleans’ complex relationship with prostitution\, traveling from the middle of Storyville’s Mahogany Hall to the contemporary court case on “Crime Against Nature.” \nA new theatrical work the performance will explore the court case on “Crime Against Nature” handled by local New Orleans attorneys including Bill Quigley and by the Center for Constitutional Rights as well as New Orleans’ complex relationship with prostitution. Five New Orleans-based artists (three cis-gender women and two transwomen) are developing this work collaboratively. To explore this relationship\, the play shifts between two time periods\, the Storyville era – connecting when prostitution was legal and any traveling businessman could pick up a Blue Book (http://www.storyvilledistrictnola.com/bluebook.html)\, and the modern day civil rights suit. The artists aim to accurately depict how the plaintiffs of the case are treated by society\, the difficulties they encounter and the struggles they have to work through as a result of being charged with “Crime Against Nature.” \nThe play will take place in the Newcomb Art Museum surrounded by original pieces from Storyville currently on display in the tricentennial exhibition EMPIRE. \n____ \nFriday night will be a free performance with limited seating. To reserve your spot today\, email museum@tulane.edu.
URL:https://newcombartmuseum.tulane.edu/event/free-performance-of-postcards-from-over-the-edge/
LOCATION:Newcomb Art Museum\, Woldenberg Art Center\, New Orleans\, LA\, 70118\, United States
CATEGORIES:Performance
ATTACH;FMTTYPE=image/jpeg:https://newcombartmuseum.tulane.edu/wp-content/uploads/sites/5/2018/09/38246186_10156619758738024_5055105232409722880_o-1.jpg
END:VEVENT
BEGIN:VEVENT
DTSTART;TZID=America/Chicago:20181006T183000
DTEND;TZID=America/Chicago:20181006T203000
DTSTAMP:20260424T161957
CREATED:20180918T143903Z
LAST-MODIFIED:20180918T164250Z
UID:9399-1538850600-1538857800@newcombartmuseum.tulane.edu
SUMMARY:Postcards From Over the Edge
DESCRIPTION:Postcards From Over the Edge is an expedition through New Orleans’ complex relationship with prostitution\, traveling from the middle of Storyville’s Mahogany Hall to the contemporary court case on “Crime Against Nature.” \nA new theatrical work the performance will explore the court case on “Crime Against Nature” handled by local New Orleans attorneys including Bill Quigley and by the Center for Constitutional Rights as well as New Orleans’ complex relationship with prostitution. Five New Orleans-based artists (three cis-gender women and two transwomen) are developing this work collaboratively. To explore this relationship\, the play shifts between two time periods\, the Storyville era – connecting when prostitution was legal and any traveling businessman could pick up a Blue Book (http://www.storyvilledistrictnola.com/bluebook.html)\, and the modern day civil rights suit. The artists aim to accurately depict how the plaintiffs of the case are treated by society\, the difficulties they encounter and the struggles they have to work through as a result of being charged with “Crime Against Nature.” \nThe play will take place in the Newcomb Art Museum surrounded by original pieces from Storyville currently on display in the tricentennial exhibition EMPIRE. \n____ \nTickets for the Saturday evening and Sunday matinee are $15 and can be purchased at the door. First come\, first served; please be aware there is limited seating. The Friday evening event is free; reserve your spot by emailing museum@tulane.edu.
URL:https://newcombartmuseum.tulane.edu/event/postcards-from-over-the-edge/
LOCATION:Newcomb Art Museum\, Woldenberg Art Center\, New Orleans\, LA\, 70118\, United States
CATEGORIES:Performance
ATTACH;FMTTYPE=image/jpeg:https://newcombartmuseum.tulane.edu/wp-content/uploads/sites/5/2018/09/38246186_10156619758738024_5055105232409722880_o-1.jpg
END:VEVENT
BEGIN:VEVENT
DTSTART;TZID=America/Chicago:20181007T150000
DTEND;TZID=America/Chicago:20181007T170000
DTSTAMP:20260424T161957
CREATED:20180918T144018Z
LAST-MODIFIED:20180918T164321Z
UID:9409-1538924400-1538931600@newcombartmuseum.tulane.edu
SUMMARY:Postcards From Over the Edge
DESCRIPTION:Postcards From Over the Edge is an expedition through New Orleans’ complex relationship with prostitution\, traveling from the middle of Storyville’s Mahogany Hall to the contemporary court case on “Crime Against Nature.” \nA new theatrical work the performance will explore the court case on “Crime Against Nature” handled by local New Orleans attorneys including Bill Quigley and by the Center for Constitutional Rights as well as New Orleans’ complex relationship with prostitution. Five New Orleans-based artists (three cis-gender women and two transwomen) are developing this work collaboratively. To explore this relationship\, the play shifts between two time periods\, the Storyville era – connecting when prostitution was legal and any traveling businessman could pick up a Blue Book (http://www.storyvilledistrictnola.com/bluebook.html)\, and the modern day civil rights suit. The artists aim to accurately depict how the plaintiffs of the case are treated by society\, the difficulties they encounter and the struggles they have to work through as a result of being charged with “Crime Against Nature.” \nThe play will take place in the Newcomb Art Museum surrounded by original pieces from Storyville currently on display in the tricentennial exhibition EMPIRE. \n____ \nTickets for the Saturday evening and Sunday matinee are $15 and can be purchased at the door. First come\, first served; please be aware there is limited seating. The Friday evening event is free; reserve your spot by emailing museum@tulane.edu.
URL:https://newcombartmuseum.tulane.edu/event/postcards-from-over-the-edge-2/
LOCATION:Newcomb Art Museum\, Woldenberg Art Center\, New Orleans\, LA\, 70118\, United States
CATEGORIES:Performance
ATTACH;FMTTYPE=image/jpeg:https://newcombartmuseum.tulane.edu/wp-content/uploads/sites/5/2018/09/38246186_10156619758738024_5055105232409722880_o-1.jpg
END:VEVENT
BEGIN:VEVENT
DTSTART;TZID=America/Chicago:20181013T120000
DTEND;TZID=America/Chicago:20181013T130000
DTSTAMP:20260424T161957
CREATED:20180813T201814Z
LAST-MODIFIED:20180813T201814Z
UID:9081-1539432000-1539435600@newcombartmuseum.tulane.edu
SUMMARY:Exhibition Tour with Chloe Raub
DESCRIPTION:Drop by the Newcomb Art Museum on Second Saturdays this fall for guided exhibition tours focusing on different themes present in the current tricentennial show\, EMPIRE\, led by different faculty and staff from Tulane. \n\nOn October 13\, join Chloe Raub\, Head of Archives and Special Collections at Newcomb College Institute\, as she leads a guided tour of EMPIRE discussing in more detail the role of collections and archives at Newcomb College and the history of the Newcomb objects on display in the show\, exploring the shifting narratives assigned to women at the \n\nFree and open to all! \n 
URL:https://newcombartmuseum.tulane.edu/event/exhibition-tour-with-chloe-raub/
LOCATION:Newcomb Art Museum\, Woldenberg Art Center\, New Orleans\, LA\, 70118\, United States
CATEGORIES:Walk-Through
ATTACH;FMTTYPE=image/jpeg:https://newcombartmuseum.tulane.edu/wp-content/uploads/sites/5/2018/08/FB8-scaled.jpg
END:VEVENT
BEGIN:VEVENT
DTSTART;TZID=America/Chicago:20181016T183000
DTEND;TZID=America/Chicago:20181016T200000
DTSTAMP:20260424T161957
CREATED:20180813T201947Z
LAST-MODIFIED:20180928T215052Z
UID:9132-1539714600-1539720000@newcombartmuseum.tulane.edu
SUMMARY:Political Blackness in Multiracial Britain Book Launch
DESCRIPTION:Join Newcomb Art Museum for Diasporic Conversation\, the book launch of ““Political Blackness in Multiracial Britain.” It will be an evening of music\, reading\, and commentary to launch Tulane professor Mohan Ambikaipaker‘s newly released book from the University of Pennsylvania Press. The evening will feature New Orleans jazz artist and Healing Room creator Michaela Harrison\, accompanied by Joy Clark\, and featuring professor Courtney Desiree Morris from Pennsylvania State University‘s African American Studies and Women’s\, Gender\, and Sexuality Studies.\n\n\n \n\n\nFree and open to the public in Stone Auditorium!
URL:https://newcombartmuseum.tulane.edu/event/political-blackness-in-multiracial-britain-book-launch/
LOCATION:Stone Auditorium\, Woldenberg Art Center\, New Orleans
CATEGORIES:Author Talk
ATTACH;FMTTYPE=image/jpeg:https://newcombartmuseum.tulane.edu/wp-content/uploads/sites/5/2018/08/ForWeb-scaled.jpg
END:VEVENT
BEGIN:VEVENT
DTSTART;TZID=America/Chicago:20181023T183000
DTEND;TZID=America/Chicago:20181023T193000
DTSTAMP:20260424T161957
CREATED:20180813T202251Z
LAST-MODIFIED:20181023T154937Z
UID:9153-1540319400-1540323000@newcombartmuseum.tulane.edu
SUMMARY:Uncommon Exchanges: Sound
DESCRIPTION:Newcomb Art Museum\, in partnership with A Studio in the Woods\, The ByWater Institute at Tulane University\, and New Orleans Center for the Gulf South (Nola Gulf South)\, presents a unique dialogue\, centering on “sound\,” between Joel Dinerstein\, the Clark Chair of American Civilization at Tulane University and Dr. Renata Durães Ribeiro\, Professor of the Practice in Tulane’s Department of Ecology and Evolutionary Biology. Moderated by Newcomb’s curator Laura Blereau. \n___ \nFree and open to the public; held at Newcomb Art Museum.
URL:https://newcombartmuseum.tulane.edu/event/uncommon-exchanges-sound/
LOCATION:Newcomb Art Museum\, Woldenberg Art Center\, New Orleans\, LA\, 70118\, United States
CATEGORIES:Scholarly Talk
ATTACH;FMTTYPE=image/jpeg:https://newcombartmuseum.tulane.edu/wp-content/uploads/sites/5/2018/08/FB11-scaled.jpg
END:VEVENT
BEGIN:VEVENT
DTSTART;TZID=America/Chicago:20181030T110000
DTEND;TZID=America/Chicago:20181030T130000
DTSTAMP:20260424T161957
CREATED:20180813T202658Z
LAST-MODIFIED:20180813T202658Z
UID:9165-1540897200-1540904400@newcombartmuseum.tulane.edu
SUMMARY:Tulane Tuesday | Homecoming Screen Print
DESCRIPTION:Wear your Tulane gear each Tuesday and stop by the LBC between 11AM-1PM to get today’s free treat – Homecoming screen print designed by Kiernan Dunn… come be a part of creating the last layer of one of a kind poster print in celebration of Tulane homecoming! Only 300 prints will be available. \nSponsored by the Newcomb Art Museum as well as the Lavin-Bernick Center for University Life. \nDon’t forget to have your loyalty card stamped! \n** You must wear Tulane gear to receive the giveaway\, no exceptions\n** Giveaway applies while supplies last and are first come\, first serve
URL:https://newcombartmuseum.tulane.edu/event/tulane-tuesday-homecoming-screen-print/
LOCATION:Newcomb Art Museum\, Woldenberg Art Center\, New Orleans\, LA\, 70118\, United States
CATEGORIES:Art Activity
ATTACH;FMTTYPE=image/jpeg:https://newcombartmuseum.tulane.edu/wp-content/uploads/sites/5/2018/08/38903816_2080713608847243_284416715775803392_n.jpg
END:VEVENT
END:VCALENDAR