BEGIN:VCALENDAR
VERSION:2.0
PRODID:-//Newcomb Art Museum - ECPv6.15.20//NONSGML v1.0//EN
CALSCALE:GREGORIAN
METHOD:PUBLISH
X-WR-CALNAME:Newcomb Art Museum
X-ORIGINAL-URL:https://newcombartmuseum.tulane.edu
X-WR-CALDESC:Events for Newcomb Art Museum
REFRESH-INTERVAL;VALUE=DURATION:PT1H
X-Robots-Tag:noindex
X-PUBLISHED-TTL:PT1H
BEGIN:VTIMEZONE
TZID:America/Chicago
BEGIN:DAYLIGHT
TZOFFSETFROM:-0600
TZOFFSETTO:-0500
TZNAME:CDT
DTSTART:20180311T080000
END:DAYLIGHT
BEGIN:STANDARD
TZOFFSETFROM:-0500
TZOFFSETTO:-0600
TZNAME:CST
DTSTART:20181104T070000
END:STANDARD
BEGIN:DAYLIGHT
TZOFFSETFROM:-0600
TZOFFSETTO:-0500
TZNAME:CDT
DTSTART:20190310T080000
END:DAYLIGHT
BEGIN:STANDARD
TZOFFSETFROM:-0500
TZOFFSETTO:-0600
TZNAME:CST
DTSTART:20191103T070000
END:STANDARD
BEGIN:DAYLIGHT
TZOFFSETFROM:-0600
TZOFFSETTO:-0500
TZNAME:CDT
DTSTART:20200308T080000
END:DAYLIGHT
BEGIN:STANDARD
TZOFFSETFROM:-0500
TZOFFSETTO:-0600
TZNAME:CST
DTSTART:20201101T070000
END:STANDARD
END:VTIMEZONE
BEGIN:VEVENT
DTSTART;TZID=America/Chicago:20190119T140000
DTEND;TZID=America/Chicago:20190119T200000
DTSTAMP:20260424T212207
CREATED:20190102T221054Z
LAST-MODIFIED:20190102T221115Z
UID:9599-1547906400-1547928000@newcombartmuseum.tulane.edu
SUMMARY:Per(Sister) Opening Day
DESCRIPTION:Mark the opening of this groundbreaking exhibition with an afternoon of family activities and an evening of conversation\, performance\, and celebration. \n\n2 to 4pm – (In Woodward Way and the Museum) Museum-goers of all ages are invited to engage with the exhibition at our friends and family afternoon. Activities will include tie-dye\, a scavenger hunt\, make your own message in a bottle\, a rhymes\, rhythm\, and rock workshop (at 3pm) led by Young Audiences of Louisiana!\n3 to 4:30pm – (in front of the museum) Join artist Jackie Sumell for a community planting as we add flowers chosen by currently incarcerated mothers to Sumell’s installation A Solitary Garden for Incarcerated Moms.\n4 to 4:45pm – (in Woodward Way) Come meet representatives from our community partners at an organization fair and learn ways you can volunteer and get involved!\n4 to 4:45pm – (in the Museum) Journey into the museum for a reading of INK\, a literary magazine produced by Tulane students and incarcerated students at the Lafayette Parish Correctional Center led by Tulane Professor Zachary Lazar.\n4:45 to 5:30pm – (In Freeman Auditorium) Kick off the evening’s events with a performance from The Graduates\, an ensemble comprised of former members of the LCIW Drama Club who build awareness of mass incarceration and racial injustice.\n5 to 5:30pm – (In the Museum) Children ages 5 and under are invited to take part in an interactive storytelling activity led by Young Audiences of Louisiana.\n5:30 to 6:45pm – (In Freeman Auditorium) Learn all about the exhibition\, the women involved\, and the process of turning these incredible stories into art during a panel featuring Syrita Steib-Martin and Dolfinette Martin\, PerSisters and co-producers of the exhibition\, Laura Blereau\, Newcomb’s curator\, and Allison Beonde\, photographer; moderated by Monica Ramirez-Montagut\, Newcomb’s director. \n6:45 to 8pm – Finish the day with a celebratory reception that includes a featured performance from Cherice Harrison-Nelson Big Queen of the Guardians of the Flame Mardi Gras Indians with PerSister Zina Mitchell\, free food and drinks!\n\n**Free childcare for children 4 and under will be provided from 4 to 6:45pm so parents may take part in the planting\, performance\, and panel. \nThis event is free and open to all. Email museum@tulane.edu or call 504.314.2406 with questions.
URL:https://newcombartmuseum.tulane.edu/event/persister-opening-day/
CATEGORIES:Opening
ATTACH;FMTTYPE=image/jpeg:https://newcombartmuseum.tulane.edu/wp-content/uploads/sites/5/2018/08/IMG_9348-scaled.jpg
END:VEVENT
BEGIN:VEVENT
DTSTART;TZID=America/Chicago:20190129T190000
DTEND;TZID=America/Chicago:20190129T210000
DTSTAMP:20260424T212207
CREATED:20190123T220839Z
LAST-MODIFIED:20190123T220839Z
UID:9627-1548788400-1548795600@newcombartmuseum.tulane.edu
SUMMARY:Free Film Screenings of Sin by Silence and Mothering Inside
DESCRIPTION:Drop by Freeman Auditorium in the Woldenberg Art Center at Tulane University for a free screening of two films documenting the treatment of formerly and currently incarcerated women. \n“Sin by Silence” documents inside the California Institution for Women as the first inmate initiated and led group in U.S. prison history shatters the misconceptions of domestic violence. “Mothering Inside” chronicles the experiences of incarcerated women and their children as they participate in the Family Preservation Project\, a program designed to interrupt the cycle of intergenerational criminal justice involvement\, poverty\, and addiction\, and promote healthy mother-child relationships\, support successful reentry\, and decrease recidivism. \nThis event is free and open to all. Email museum@tulane.edu or call 504.314.2406 with questions. \nThis event is co-sponsored by the Howard-Tilton Memorial Library
URL:https://newcombartmuseum.tulane.edu/event/free-film-screenings-of-sin-by-silence-and-mothering-inside/
CATEGORIES:Film
ATTACH;FMTTYPE=image/jpeg:https://newcombartmuseum.tulane.edu/wp-content/uploads/sites/5/2019/01/48425503_10156952602243024_7426149809431511040_n.jpg
END:VEVENT
END:VCALENDAR